BEGIN:VCALENDAR
VERSION:2.0
PRODID:-//Dragonfly Reiki Marketplace - ECPv6.15.14//NONSGML v1.0//EN
CALSCALE:GREGORIAN
METHOD:PUBLISH
X-ORIGINAL-URL:https://testing.dragonflyreiki.me
X-WR-CALDESC:Events for Dragonfly Reiki Marketplace
REFRESH-INTERVAL;VALUE=DURATION:PT1H
X-Robots-Tag:noindex
X-PUBLISHED-TTL:PT1H
BEGIN:VTIMEZONE
TZID:America/New_York
BEGIN:DAYLIGHT
TZOFFSETFROM:-0500
TZOFFSETTO:-0400
TZNAME:EDT
DTSTART:20250309T070000
END:DAYLIGHT
BEGIN:STANDARD
TZOFFSETFROM:-0400
TZOFFSETTO:-0500
TZNAME:EST
DTSTART:20251102T060000
END:STANDARD
BEGIN:DAYLIGHT
TZOFFSETFROM:-0500
TZOFFSETTO:-0400
TZNAME:EDT
DTSTART:20260308T070000
END:DAYLIGHT
BEGIN:STANDARD
TZOFFSETFROM:-0400
TZOFFSETTO:-0500
TZNAME:EST
DTSTART:20261101T060000
END:STANDARD
BEGIN:DAYLIGHT
TZOFFSETFROM:-0500
TZOFFSETTO:-0400
TZNAME:EDT
DTSTART:20270314T070000
END:DAYLIGHT
BEGIN:STANDARD
TZOFFSETFROM:-0400
TZOFFSETTO:-0500
TZNAME:EST
DTSTART:20271107T060000
END:STANDARD
END:VTIMEZONE
BEGIN:VEVENT
DTSTART;TZID=America/New_York:20260111T160000
DTEND;TZID=America/New_York:20260111T170000
DTSTAMP:20260419T091801
CREATED:20251218T230759Z
LAST-MODIFIED:20251218T230759Z
UID:10001310-1768147200-1768150800@testing.dragonflyreiki.me
SUMMARY:Energetic Cord Cutting: Releasing Energies That No Longer Serve
DESCRIPTION:Clear attachments. Restore your energy. Reclaim your peace.\nEnergetic Cord Cutting is a Reiki-based workshop designed to help you release old energetic ties—relationships\, patterns\, and emotions that continue to drain or limit your energy. Through guided meditation\, visualization\, and Reiki\, you’ll learn to lovingly dissolve energetic cords and call your power back with compassion and clarity. \nWhat we’ll do (60 minutes): \n\nOpening grounding + intention setting\n\nDiscussion on energetic cords and their emotional impact\n\nGuided meditation and Reiki cord-cutting process\n\nReflection + energy restoration practice\n\nClosing integration and protection\n\n\nWho it’s for: Anyone feeling energetically drained\, tied to the past\, or ready to release connections that no longer align. No prior Reiki experience needed—just openness to healing. \nHost: Rachel Isabela\nWhen: Sunday\, January 11th at 4:00 PM Eastern\nWhere: Via Zoom\nRate: Community Rate $20 USD \nEnergetic Cord Cutting is a gentle yet powerful practice for renewal—helping you release what’s not yours and return to your natural state of balance. \n  \n\n\n Want to work one-on-one with Rachel?\nClick here to book your session
URL:https://testing.dragonflyreiki.me/event/energetic-cord-cutting-jan-11/
CATEGORIES:Dragonfly Community Circles
ATTACH;FMTTYPE=image/png:https://testing.dragonflyreiki.me/wp-content/uploads/2025/10/Header-Energetic-Cord-Cutting-Releasing-Energies-That-No-Longer-Serve-1.png
END:VEVENT
END:VCALENDAR