BEGIN:VCALENDAR
VERSION:2.0
PRODID:-//Dragonfly Reiki Marketplace - ECPv6.15.14//NONSGML v1.0//EN
CALSCALE:GREGORIAN
METHOD:PUBLISH
X-ORIGINAL-URL:https://testing.dragonflyreiki.me
X-WR-CALDESC:Events for Dragonfly Reiki Marketplace
REFRESH-INTERVAL;VALUE=DURATION:PT1H
X-Robots-Tag:noindex
X-PUBLISHED-TTL:PT1H
BEGIN:VTIMEZONE
TZID:America/New_York
BEGIN:DAYLIGHT
TZOFFSETFROM:-0500
TZOFFSETTO:-0400
TZNAME:EDT
DTSTART:20250309T070000
END:DAYLIGHT
BEGIN:STANDARD
TZOFFSETFROM:-0400
TZOFFSETTO:-0500
TZNAME:EST
DTSTART:20251102T060000
END:STANDARD
BEGIN:DAYLIGHT
TZOFFSETFROM:-0500
TZOFFSETTO:-0400
TZNAME:EDT
DTSTART:20260308T070000
END:DAYLIGHT
BEGIN:STANDARD
TZOFFSETFROM:-0400
TZOFFSETTO:-0500
TZNAME:EST
DTSTART:20261101T060000
END:STANDARD
BEGIN:DAYLIGHT
TZOFFSETFROM:-0500
TZOFFSETTO:-0400
TZNAME:EDT
DTSTART:20270314T070000
END:DAYLIGHT
BEGIN:STANDARD
TZOFFSETFROM:-0400
TZOFFSETTO:-0500
TZNAME:EST
DTSTART:20271107T060000
END:STANDARD
END:VTIMEZONE
BEGIN:VEVENT
DTSTART;TZID=America/New_York:20260102T160000
DTEND;TZID=America/New_York:20260102T170000
DTSTAMP:20260421T101320
CREATED:20251218T224732Z
LAST-MODIFIED:20251218T224732Z
UID:10001306-1767369600-1767373200@testing.dragonflyreiki.me
SUMMARY:Sacred Misfits Circle
DESCRIPTION:For the cycle-breakers\, the boundary-setters\, and those who choose healing over hiding\nWe’re the ones who broke the mold—the ones who ask too many questions\, live too loudly\, love too deeply\, or walk away from what everyone else just accepts. In families that valued silence over truth\, tradition over growth\, or sameness over authenticity\, we stood out. And sometimes\, we paid for it. \nThe Sacred Misfits Circle is a community for those who have chosen a different path: the misfits\, the healers\, the boundary-setters\, and the courageous souls seeking support\, understanding\, and connection. \n\nEvent Details\nRate: Community Rate $20 USD per sessionWhen: January 2ndWhere: Online (Zoom) \n\nWho It’s For\nThis circle is for anyone who has felt different\, out of place\, or misunderstood\, and who is ready to step into a supportive\, heart-centered community that honors authenticity\, growth\, and healing. \n  \n\n  \n\n Want to work one-on-one with Rachel?\nClick here to book your session
URL:https://testing.dragonflyreiki.me/event/sacred-misfits-circle-jan-2/
CATEGORIES:Dragonfly Community Circles
ATTACH;FMTTYPE=image/png:https://testing.dragonflyreiki.me/wp-content/uploads/2025/09/Header-Sacred-Misfits-Circle.png
LOCATION:https://testing.dragonflyreiki.me/event/sacred-misfits-circle-jan-2/
END:VEVENT
END:VCALENDAR